BEGIN:VCALENDAR
VERSION:2.0
PRODID:icalendar-ruby
CALSCALE:GREGORIAN
BEGIN:VEVENT
DTSTAMP:20260424T002217Z
UID:BqB37A
DTSTART;VALUE=DATE:20200326
DTEND;VALUE=DATE:20200328
CLASS:PUBLIC
CREATED:20190816T134900
DESCRIPTION: You can find full details of the events here. \n\n Intro \n\n 
 TestBash Brighton\, the home of TestBash\, is back for its 9th year. And w
 e're super excited about it! \nThis year it's a 2-day TestBash with 3 addi
 tional pre-TestBash courses. \n\n Training \n\n For the pre-TestBash cours
 es\, we will be hosting the three-day Automation in Testing course with Ri
 chard Bradshaw and Mark Winteringham\, the brand new three-day Testing Ess
 entials Intensive with Dan Ashby AND the three-day Agile Testing for the W
 hole Team with Janet Gregory. All courses will run from 23rd-25th March. \
 n\n Workshops \n\n 26th March\, is a workshop day\, with 10 half-day works
 hops and a full day Essentials@TestBash workshop. \n\n Talks \n\n 27th Mar
 ch\, is a single-track conference\, TestBash\, consisting of 10 talks. Plu
 s we'll have the Community Space running throughout the day\, providing a 
 whole host of activities for you to engage with fellow attendees and speak
 ers. \n\n  Community \n\n On all the days\, you can expect a wonderful com
 munity to come together in a friendly\, professional and safe environment.
  We think you will feel at home when you arrive! \n\n Pro MoT \n\n Pro MoT
  members save £50 per ticket. \n\n Budget all spent? Too far to travel? B
 ut interested in the content? Buy MoT Pro and get access to all these talk
 s from this TestBash\, plus all previous TestBashes and our whole catalogu
 e. \n\n The venue is The Clarendon Centre. \n\n Tickets \n\n ↓↓↓ \n
LAST-MODIFIED:20250620T150524
LOCATION:Brighton
ORGANIZER:mailto:brighton@ministryoftesting.com
SUMMARY:TestBash Brighton 2020
URL;VALUE=URI:https://ti.to/mot/testbash-brighton-2020
URL;VALUE=URI:https://ti.to/mot/testbash-brighton-2020
END:VEVENT
END:VCALENDAR
