BEGIN:VCALENDAR
VERSION:2.0
PRODID:icalendar-ruby
CALSCALE:GREGORIAN
BEGIN:VEVENT
DTSTAMP:20260420T004629Z
UID:0cBYjA
DTSTART;VALUE=DATE:20170323
DTEND;VALUE=DATE:20170325
CLASS:PUBLIC
CREATED:20161012T183003
DESCRIPTION: TestBash Brighton is back for its 6th year. And we're pretty e
 xcited about it! \n\n This year it's a 2 day event with some additional pr
 e training events. \n\n We will be hosting Rapid Software Testing with Mic
 hael Bolton\, Lego Automation with Richard Bradshaw and a brand new one da
 y Introduction to Exploratory and Agile Testing w/ the Software Testing Cl
 inic with Mark Winteringham and Dan Ashby. \n\n The first day is a worksho
 p day\, with a couple of talks magically sprinkled in. \n\n The second day
  is a single track conference. \n\n On the Saturday we will be hosting a O
 pen Space event. \n\n On both days you can expect a wonderful community to
  come together in a friendly\, professional and safe environment. We think
  you will feel at home when you arrive! \n\n The venue is The Clarendon Ce
 ntre. \n\n You can find full details of the events here. \n
LAST-MODIFIED:20250620T150524
LOCATION:Brighton
ORGANIZER:mailto:richard@softwaretestingclub.com
SUMMARY:TestBash Brighton 2017
URL;VALUE=URI:https://ti.to/mot/testbash-brighton-2017
URL;VALUE=URI:https://ti.to/mot/testbash-brighton-2017
END:VEVENT
BEGIN:VEVENT
DTSTAMP:20260420T004629Z
UID:0cBYjA1011204
DTSTART:20170320T090000
DTEND:20170320T173000
CLASS:PUBLIC
CREATED:20161025T125207
DESCRIPTION:Rapid Software Testing\, from 20th March 2017 until 22nd March 
 2017.
LAST-MODIFIED:20171122T090206
LOCATION:Clarendon Centre\, 47 New England Street\nBrighton\nEast Sussex \n
 BN1 4GQ
ORGANIZER:mailto:richard@softwaretestingclub.com
SUMMARY:[TestBash Brighton 2017] Rapid Software Testing
URL;VALUE=URI:https://ti.to/mot/testbash-brighton-2017
X-ALT-DESC;FMTTYPE=text/html:Rapid Software Testing\, from 20th March 2017 
 until 22nd March 2017.
URL;VALUE=URI:https://ti.to/mot/testbash-brighton-2017
END:VEVENT
BEGIN:VEVENT
DTSTAMP:20260420T004629Z
UID:0cBYjA1011207
DTSTART:20170322T090000
DTEND:20170322T173000
CLASS:PUBLIC
CREATED:20161025T130455
LAST-MODIFIED:20171122T090206
LOCATION:Clarendon Centre\, 47 New England Street\nBrighton\nEast Sussex \n
 BN1 4GQ
ORGANIZER:mailto:richard@softwaretestingclub.com
SUMMARY:[TestBash Brighton 2017] Lego Automation
URL;VALUE=URI:https://ti.to/mot/testbash-brighton-2017
URL;VALUE=URI:https://ti.to/mot/testbash-brighton-2017
END:VEVENT
BEGIN:VEVENT
DTSTAMP:20260420T004629Z
UID:0cBYjA1011206
DTSTART:20170322T090000
DTEND:20170322T173000
CLASS:PUBLIC
CREATED:20161025T130359
LAST-MODIFIED:20171122T090206
LOCATION:Clarendon Centre\, 47 New England Street\nBrighton\nEast Sussex \n
 BN1 4GQ
ORGANIZER:mailto:richard@softwaretestingclub.com
SUMMARY:[TestBash Brighton 2017] Software Testing Clinic
URL;VALUE=URI:https://ti.to/mot/testbash-brighton-2017
URL;VALUE=URI:https://ti.to/mot/testbash-brighton-2017
END:VEVENT
BEGIN:VEVENT
DTSTAMP:20260420T004629Z
UID:0cBYjA1011203
DTSTART:20170323T090000
DTEND:20170323T173000
CLASS:PUBLIC
CREATED:20161025T125032
LAST-MODIFIED:20171122T090206
LOCATION:Clarendon Centre\, 47 New England Street\nBrighton\nEast Sussex \n
 BN1 4GQ
ORGANIZER:mailto:richard@softwaretestingclub.com
SUMMARY:[TestBash Brighton 2017] Workshop Day
URL;VALUE=URI:https://ti.to/mot/testbash-brighton-2017
URL;VALUE=URI:https://ti.to/mot/testbash-brighton-2017
END:VEVENT
BEGIN:VEVENT
DTSTAMP:20260420T004629Z
UID:0cBYjA1011202
DTSTART:20170324T090000
DTEND:20170324T173000
CLASS:PUBLIC
CREATED:20161025T124932
LAST-MODIFIED:20171122T090206
LOCATION:Clarendon Centre\, 47 New England Street\nBrighton\nEast Sussex \n
 BN1 4GQ
ORGANIZER:mailto:richard@softwaretestingclub.com
SUMMARY:[TestBash Brighton 2017] Conference Day
URL;VALUE=URI:https://ti.to/mot/testbash-brighton-2017
URL;VALUE=URI:https://ti.to/mot/testbash-brighton-2017
END:VEVENT
BEGIN:VEVENT
DTSTAMP:20260420T004629Z
UID:0cBYjA1011205
DTSTART:20170325T090000
DTEND:20170325T173000
CLASS:PUBLIC
CREATED:20161025T125356
LAST-MODIFIED:20171122T090206
LOCATION:Clarendon Centre\, 47 New England Street\nBrighton\nEast Sussex \n
 BN1 4GQ
ORGANIZER:mailto:richard@softwaretestingclub.com
SUMMARY:[TestBash Brighton 2017] Open Space
URL;VALUE=URI:https://ti.to/mot/testbash-brighton-2017
URL;VALUE=URI:https://ti.to/mot/testbash-brighton-2017
END:VEVENT
END:VCALENDAR
