BEGIN:VCALENDAR
VERSION:2.0
PRODID:icalendar-ruby
CALSCALE:GREGORIAN
BEGIN:VEVENT
DTSTAMP:20260420T145801Z
UID:YeHKTA
DTSTART;VALUE=DATE:20181112
DTEND;VALUE=DATE:20181114
CLASS:PUBLIC
CREATED:20180909T160156
DESCRIPTION: Interested in GraphQL but you’re not sure where to get start
 ed? In this two-day workshop\, you'll learn GraphQL from the ground up. We
 'll start with an overview of graph theory and will learn how to write que
 ries and mutations. Once we understand how to interact with a GraphQL endp
 oint\, you will design your own schema and implement your own GraphQL serv
 ices with Node.js and Express. Upon leaving this course\, students will be
  ready to build full stack applications with JavaScript\, GraphQL\, Apollo
 \, and React. \n\n Thanks to our event hosts at Avvo for providing our loc
 ation and lunch! \n
LAST-MODIFIED:20181110T173141
LOCATION:Avvo\, Seattle\, WA
ORGANIZER:mailto:info@graphqlworkshop.com
SUMMARY:GraphQL Workshop in Seattle
URL;VALUE=URI:https://ti.to/moonhighway/graphql-seattle
URL;VALUE=URI:https://ti.to/moonhighway/graphql-seattle
END:VEVENT
END:VCALENDAR
