BEGIN:VCALENDAR
VERSION:2.0
PRODID:icalendar-ruby
CALSCALE:GREGORIAN
BEGIN:VTIMEZONE
TZID:America/Phoenix
BEGIN:STANDARD
DTSTART:19671029T010000
TZOFFSETFROM:-0600
TZOFFSETTO:-0700
TZNAME:MST
END:STANDARD
END:VTIMEZONE
BEGIN:VEVENT
DTSTAMP:20260419T154733Z
UID:A1RbHQ
DTSTART;TZID=America/Phoenix:20250301T100000
DTEND;TZID=America/Phoenix:20250301T160000
CLASS:PUBLIC
CREATED:20250224T142940
DESCRIPTION: Come spend the day at Heatsync labs and make a game that works
  on the web AND a cool retro handheld device! \n\n  \nAgenda: \n\n  \n10:0
 0 pickup device \n\n 10:15 quick presentation on game development \n\n 10:
 40 watch Sheldon build a game with A.I. ! \n\n 11:00 Start hacking! \n\n 3
 :30 presentations and awards \n\n  \nDon't worry if you're not an expert c
 oder\, you can use A.I. and you can always make friends and team up! \n
LAST-MODIFIED:20250301T102908
LOCATION:Downtown Mesa\, AZ
ORGANIZER:mailto:monteslu@gmail.com
SUMMARY:Retro Handheld Game Jam
URL;VALUE=URI:https://ti.to/monteslu/retro-handheld-game-jam
URL;VALUE=URI:https://ti.to/monteslu/retro-handheld-game-jam
END:VEVENT
END:VCALENDAR
