BEGIN:VCALENDAR
VERSION:2.0
PRODID:icalendar-ruby
CALSCALE:GREGORIAN
BEGIN:VEVENT
DTSTAMP:20260424T220515Z
UID:kX3gaQ
DTSTART;VALUE=DATE:20220627
DTEND;VALUE=DATE:20220630
CLASS:PUBLIC
CREATED:20190607T181943
DESCRIPTION: An Inclusive Event for Monitoring and Observability Practition
 ers \n\n Monitorama events bring together the brightest minds among the op
 en source development and operations communities. Our goal is to continue 
 to push the boundaries of observability software and practices\, all while
  having a great time in a casual setting. \n\n This event takes place in t
 he wonderful town of Portland\, Oregon. If you haven't already experienced
  Monitorama\, this is a great chance to make our acquaintance. \n\n http:/
 /monitorama.com/ \n
LAST-MODIFIED:20230618T191816
LOCATION:Portland\, OR
ORGANIZER:mailto:info@monitorama.com
SUMMARY:Monitorama PDX 2022
URL;VALUE=URI:https://ti.to/monitorama/pdx2022
URL;VALUE=URI:https://ti.to/monitorama/pdx2022
END:VEVENT
END:VCALENDAR
