BEGIN:VCALENDAR
VERSION:2.0
PRODID:icalendar-ruby
CALSCALE:GREGORIAN
BEGIN:VEVENT
DTSTAMP:20260425T213458Z
UID:CLuBiQ
DTSTART;VALUE=DATE:20190603
DTEND;VALUE=DATE:20190606
CLASS:PUBLIC
CREATED:20180726T011725
DESCRIPTION: An Open Source Monitoring Conference \n\n Monitorama events br
 ing together the brightest minds among the open source development and ope
 rations communities. Our goal is to continue to push the boundaries of mon
 itoring and trending software\, all while having a great time in a casual 
 setting. \n\n This event takes place in the wonderful town of Portland\, O
 regon. If you haven't already experienced Monitorama\, this is a great cha
 nce to make our acquaintance. \n\n http://monitorama.com/ \n
LAST-MODIFIED:20230107T193208
LOCATION:Portland\, OR
ORGANIZER:mailto:info@monitorama.com
SUMMARY:Monitorama PDX 2019
URL;VALUE=URI:https://ti.to/monitorama/pdx2019
URL;VALUE=URI:https://ti.to/monitorama/pdx2019
END:VEVENT
END:VCALENDAR
