BEGIN:VCALENDAR
VERSION:2.0
PRODID:icalendar-ruby
CALSCALE:GREGORIAN
BEGIN:VTIMEZONE
TZID:America/New_York
BEGIN:DAYLIGHT
DTSTART:20190310T030000
TZOFFSETFROM:-0500
TZOFFSETTO:-0400
RRULE:FREQ=YEARLY;BYDAY=2SU;BYMONTH=3
TZNAME:EDT
END:DAYLIGHT
BEGIN:STANDARD
DTSTART:20191103T010000
TZOFFSETFROM:-0400
TZOFFSETTO:-0500
RRULE:FREQ=YEARLY;BYDAY=1SU;BYMONTH=11
TZNAME:EST
END:STANDARD
END:VTIMEZONE
BEGIN:VEVENT
DTSTAMP:20260424T162427Z
UID:cgE3Tg
DTSTART;VALUE=DATE:20191021
DTEND;VALUE=DATE:20191023
CLASS:PUBLIC
CREATED:20190227T201738
DESCRIPTION: An Inclusive Event for Monitoring and Observability Practition
 ers \n\n Monitorama events bring together the brightest minds to push the 
 boundaries of monitoring and observability software practices\, all while 
 having a great time in a casual setting. \n\n This event takes place in th
 e historic city of Baltimore\, Maryland. If you haven't already experience
 d Monitorama\, this is a great chance to make our acquaintance. \n\n http:
 //monitorama.com/ \n
LAST-MODIFIED:20230107T143208
LOCATION:Baltimore\, MD
ORGANIZER:mailto:info@monitorama.com
SUMMARY:Monitorama Baltimore 2019
URL;VALUE=URI:https://ti.to/monitorama/bmore2019
URL;VALUE=URI:https://ti.to/monitorama/bmore2019
END:VEVENT
END:VCALENDAR
