BEGIN:VCALENDAR
VERSION:2.0
PRODID:icalendar-ruby
CALSCALE:GREGORIAN
BEGIN:VEVENT
DTSTAMP:20260424T142231Z
UID:bkCdLA
DTSTART;VALUE=DATE:20180904
DTEND;VALUE=DATE:20180906
CLASS:PUBLIC
CREATED:20160906T151759
DESCRIPTION: An Open Source Monitoring Conference \n\n Monitorama events br
 ing together the brightest minds among the open source development and ope
 rations communities. Our goal is to continue to push the boundaries of mon
 itoring and trending software\, all while having a great time in a casual 
 setting. \n\n This event takes place in the beautiful city of Amsterdam. I
 f you haven't already experienced Monitorama\, this is a great chance to m
 ake our acquaintance. \n\n http://monitorama.eu/ \n
LAST-MODIFIED:20230107T193208
LOCATION:Amsterdam\, Netherlands
ORGANIZER:mailto:info@monitorama.eu
SUMMARY:Monitorama AMS 2018
URL;VALUE=URI:https://ti.to/monitorama/ams2018
URL;VALUE=URI:https://ti.to/monitorama/ams2018
END:VEVENT
END:VCALENDAR
