BEGIN:VCALENDAR
VERSION:2.0
PRODID:icalendar-ruby
CALSCALE:GREGORIAN
BEGIN:VEVENT
DTSTAMP:20260420T083941Z
UID:bWDq6w
DTSTART;VALUE=DATE:20190922
DTEND;VALUE=DATE:20190923
CLASS:PUBLIC
CREATED:20190902T172134
DESCRIPTION: Bratislava Game Jam Session is a one day game-jam-like event\,
  where people gather\, share knowledge and build things. The topic of the 
 session is creatures and characters. Come with your computer or other favo
 rite tools in the morning\, dream and design your own little being\, and s
 how it to other fellow game designers in the evening. We are interesting i
 n everythig you breathe life into. Be it plants\, animals\, creatures\, he
 roines. Anthropocentric or not. Teir cognition\, emotions\, culture\, memo
 ries\, history\, fashion\, stories\, interactions. What you create is only
  yours\, and can be used in your future game. \n
LAST-MODIFIED:20191107T225239
LOCATION:Goethe-Institut Bratislava
ORGANIZER:mailto:hello@bratislavagamejam.sk
SUMMARY:Bratislava Game Jam Session: Creatures and Characters
URL;VALUE=URI:https://ti.to/mlady-pes/bratislava-game-jam-session-creatures
 -and-characters
URL;VALUE=URI:https://ti.to/mlady-pes/bratislava-game-jam-session-creatures
 -and-characters
END:VEVENT
END:VCALENDAR
