BEGIN:VCALENDAR
VERSION:2.0
PRODID:icalendar-ruby
CALSCALE:GREGORIAN
BEGIN:VEVENT
DTSTAMP:20260419T152439Z
UID:XjRu2w
DTSTART;VALUE=DATE:20190428
DTEND;VALUE=DATE:20190501
CLASS:PUBLIC
CREATED:20190206T094939
DESCRIPTION: A conference to encourage the use of Machine Learning in the a
 verage developer's toolbox. \n
LAST-MODIFIED:20190606T213854
LOCATION:Portland\, Oregon
ORGANIZER:mailto:thoward37@gmail.com
SUMMARY:ML4All 2019
URL;VALUE=URI:https://ti.to/ml4all/ml4all-2019
URL;VALUE=URI:https://ti.to/ml4all/ml4all-2019
END:VEVENT
END:VCALENDAR
