BEGIN:VCALENDAR
VERSION:2.0
PRODID:icalendar-ruby
CALSCALE:GREGORIAN
BEGIN:VEVENT
DTSTAMP:20260421T030359Z
UID:U7z8Sg
DTSTART;VALUE=DATE:20160609
DTEND;VALUE=DATE:20160610
CLASS:PUBLIC
CREATED:20160308T220955
DESCRIPTION: Milton Keynes Geek Night is a quarterly evening event for the 
 creative community: an opportunity to see some of the best speakers in the
  creative space\, and a chance for people to meet up\, network and chat ov
 er a few drinks. \n\n Headline Talks \n\n \n Rich Rutter – 'Don’t Give
  Them What They Want\, Give Them What They Need' \n Alice Bartlett – 'Ca
 n't you make it more like bootstrap? Considerations for building a compone
 nt system' \n \n\n Five Minute Features \n\n \n Paul Davies – 'Questioni
 ng Design for a Build Spec' \n Sarah Plant – 'Applying design processes 
 to your own life' \n Axel Segebrecht – 'How to automate marketing operat
 ions without coding' \n \n
LAST-MODIFIED:20160608T144845
LOCATION:Milton Keynes
ORGANIZER:mailto:howdy@mkgeeknight.co.uk
SUMMARY:MK Geek Night #17 – June 9th\, 2016
URL;VALUE=URI:https://ti.to/mkgn/mkgn-17
URL;VALUE=URI:https://ti.to/mkgn/mkgn-17
END:VEVENT
END:VCALENDAR
