BEGIN:VCALENDAR
VERSION:2.0
PRODID:icalendar-ruby
CALSCALE:GREGORIAN
BEGIN:VEVENT
DTSTAMP:20260420T011011Z
UID:kz3jOw
DTSTART;VALUE=DATE:20150302
DTEND;VALUE=DATE:20150303
CLASS:PUBLIC
CREATED:20150220T202420
DESCRIPTION: A full-day\, practical\, experiential workshop on making postm
 ortems awesome. \n
LAST-MODIFIED:20150601T190610
LOCATION:555 California Street\, San Francisco
ORGANIZER:mailto:workshops@mindweather.com
SUMMARY:Awesome Postmortems SF 2015
URL;VALUE=URI:https://ti.to/mindweather/awesome-postmortems-sf-2015
URL;VALUE=URI:https://ti.to/mindweather/awesome-postmortems-sf-2015
END:VEVENT
END:VCALENDAR
