BEGIN:VCALENDAR
VERSION:2.0
PRODID:icalendar-ruby
CALSCALE:GREGORIAN
BEGIN:VEVENT
DTSTAMP:20260421T094228Z
UID:4cgGrg
DTSTART;VALUE=DATE:20181012
DTEND;VALUE=DATE:20181015
CLASS:PUBLIC
CREATED:20180912T074519
DESCRIPTION: Sponsored by and hosted at buntebrause.de \n\n There are too m
 any bugs. Always. So let's squash them. \n\n If you are familiar with the 
 MODX code and wanna get your hands dirty: Join us in Cologne. \n\n Rewards
  for successful hunters \n\n Mark from modmore will sponsor the hunt with 
 some licences for his famous software products. Awesome! \n\n Schedule \n\
 n Friday \n\n \n 18:00 - 20:00h  / getTogether at "buntebrause.de" • May
 bachstr. 155-159 • 50670 Cologne \n 20:00h Dinner at "Brauhaus Stüsser"
  • Neusser Str. 47 • 50670 Cologne (your pay for what you consume) \n 
 \n\n Saturday \n\n \n 09:00h Start coding till you drop \;-)  \n Lunch any
  time you want. Supermarkets\, Restaurant\, Snack bars are around the corn
 er. \n Maybe we'll have some sort of party/dinner-event in the evening.  \
 n \n\n Sunday \n\n \n 09:00h - 15:00h Coding with your last energy left \n
  \n\n Seats \n\n There are 32 seats for free hunting.\nGrab you ticket and
  be a part of it. \n\n Location \n\n We are hunting in rooms of buntebraus
 e.de at Maybachstr. 155-159\, 50670 Cologne\, Germany. You'll find a map a
 t the end of this page. \n\n Thank you so much for making this event possi
 ble\, buntebrause.de ! \n\n BTW: They are hiring MODX pros! \n\n Transport
 ation \n\n By Train/Airplane: From the Cologne central station "Köln Haup
 tbahnhof (HBF)" use a train (S6\, S12 or S13) and go one stop to "Köln Ha
 nsaring".  \n\n By Car: There are 5 parking spaces. Use your navigation sy
 stem to get there (see: Location). \n\n Hotels \n\n Cheap \n\n \n Centro H
 otel 180 meters \n Hotel Garni Emir 180 meters \n \n\n Regular \n\n \n Azi
 mut Hotel 280 meters \n Motel One 700 meters \n NH Hotel 850 meters \n \n\
 n Sponsoring \n\n If anybody wants to sponsor water\, beer\, pizza\, prize
 s\, mental couches or whatever feel free to contact me: Oliver \n\n 'til t
 hen\,\nYour MODX Ambassador \n\n Oliver Haase-Lobinger (mindeffects.de) \n
LAST-MODIFIED:20181012T132931
LOCATION:Cologne\, Germany
ORGANIZER:mailto:modx@mindeffects.de
SUMMARY:MODX Bug Hunt #4 Cologne
URL;VALUE=URI:https://ti.to/mindeffects/modx-bughunt-4-cologne
URL;VALUE=URI:https://ti.to/mindeffects/modx-bughunt-4-cologne
END:VEVENT
END:VCALENDAR
