BEGIN:VCALENDAR
VERSION:2.0
PRODID:icalendar-ruby
CALSCALE:GREGORIAN
BEGIN:VTIMEZONE
TZID:America/Bogota
BEGIN:STANDARD
DTSTART:19930206T230000
TZOFFSETFROM:-0400
TZOFFSETTO:-0500
TZNAME:-05
END:STANDARD
END:VTIMEZONE
BEGIN:VEVENT
DTSTAMP:20260421T054219Z
UID:ZTwq5A
DTSTART;TZID=America/Bogota:20250924T183000
DTEND;TZID=America/Bogota:20250924T213000
CLASS:PUBLIC
CREATED:20250901T203801
DESCRIPTION: Ruby Bogotá es para desarrolladores de Ruby de todos los nive
 les. Nos esforzamos en crear material de interés para principiantes y exp
 erimentados en cada reunión. \n\n Nuestras reuniones mensuales son gratui
 tas. \n\n  \nTe esperamos de 6:30 pm a 9:00 pm! El evento se llevará a ca
 bo en la oficina de SOMOS INTERNET\, situadas en la Calle 100 # 8a - 55 To
 rre C Oficina 801 Edificio World Trade Center \n
LAST-MODIFIED:20250915T213857
LOCATION:Calle 100 # 8a - 55 Torre C Oficina 801 Edificio World Trade Cente
 r
ORGANIZER:mailto:rubybogotacommunity@gmail.com
SUMMARY:Ruby Bogotá Meetup Septiembre 2025
URL;VALUE=URI:https://ti.to/meetup-ruby-bogota/ruby_bogota_septiembre_2025
URL;VALUE=URI:https://ti.to/meetup-ruby-bogota/ruby_bogota_septiembre_2025
END:VEVENT
END:VCALENDAR
