BEGIN:VCALENDAR
VERSION:2.0
PRODID:icalendar-ruby
CALSCALE:GREGORIAN
BEGIN:VEVENT
DTSTAMP:20260425T164050Z
UID:B2aAPg
DTSTART;VALUE=DATE:20160913
DTEND;VALUE=DATE:20160915
CLASS:PUBLIC
CREATED:20160314T111248
DESCRIPTION: The Mediacon Global Entertainment Summit is the most complete 
 global market and\nsummit for the business of Television and Digital Enter
 tainment\, and a must attend event for content creators\, broadcasters\, d
 istributors\, network executives\, producers\, multi-platform content netw
 orks and platforms\, brands\, content technology companies\, advertising e
 xecutives\, communications professionals and all those interested the evol
 ution of the content industry. \n\n The Summit is a 2 day event and encomp
 asses  Television\, Film\, Gaming\, Animation\, Virtual Reality\, Social N
 etworks\, New Broadcasting Platforms and all aspects of Visual Storytellin
 g. \n
LAST-MODIFIED:20170329T145532
LOCATION:Dublin\, Ireland
ORGANIZER:mailto:events@mediacon.ie
SUMMARY:Mediacon Summit 2016
URL;VALUE=URI:https://ti.to/mediacon/mediacon-summit-2016
URL;VALUE=URI:https://ti.to/mediacon/mediacon-summit-2016
END:VEVENT
END:VCALENDAR
