BEGIN:VCALENDAR
VERSION:2.0
PRODID:icalendar-ruby
CALSCALE:GREGORIAN
BEGIN:VEVENT
DTSTAMP:20260422T022543Z
UID:DLxUDg
DTSTART;VALUE=DATE:20240503
DTEND;VALUE=DATE:20240504
CLASS:PUBLIC
CREATED:20231116T074500
DESCRIPTION: Doors open at 7:15 | Music starts at 8:00 \n\n Please note tha
 t we don’t send you tickets\; you just check in at the door. \n
LAST-MODIFIED:20240828T031111
LOCATION:28 Mugford St\, Marblehead\, Mass.
ORGANIZER:mailto:tickets@meandthee.org
SUMMARY:The Nields
URL;VALUE=URI:https://ti.to/me-thee-music/the-nields-2024
URL;VALUE=URI:https://ti.to/me-thee-music/the-nields-2024
END:VEVENT
END:VCALENDAR
