BEGIN:VCALENDAR
VERSION:2.0
PRODID:icalendar-ruby
CALSCALE:GREGORIAN
BEGIN:VEVENT
DTSTAMP:20260421T100608Z
UID:XANrsQ
DTSTART;VALUE=DATE:20240405
DTEND;VALUE=DATE:20240406
CLASS:PUBLIC
CREATED:20231116T072846
DESCRIPTION: Doors open at 7:15 | Music starts at 8:00 \n\n Please note tha
 t we don’t send you tickets\; you just check in at the door. \n
LAST-MODIFIED:20240828T031111
LOCATION:28 Mugford St\, Marblehead\, Mass.
ORGANIZER:mailto:tickets@meandthee.org
SUMMARY:The Kennedys
URL;VALUE=URI:https://ti.to/me-thee-music/the-kennedys
URL;VALUE=URI:https://ti.to/me-thee-music/the-kennedys
END:VEVENT
END:VCALENDAR
