BEGIN:VCALENDAR
VERSION:2.0
PRODID:icalendar-ruby
CALSCALE:GREGORIAN
BEGIN:VEVENT
DTSTAMP:20260421T120822Z
UID:noA67Q
DTSTART:20241108T200000
DTEND:20241108T220000
CLASS:PUBLIC
CREATED:20240519T055021
DESCRIPTION: Doors open at 7:15 | Music starts at 8:00 \n\n Please note tha
 t we don’t send you tickets\; you just check in at the door. \n
LAST-MODIFIED:20241106T195132
LOCATION:28 Mugford St\, Marblehead\, Mass.
ORGANIZER:mailto:tickets@meandthee.org
SUMMARY:Erin Ash Sullivan and Sam Robbins
URL;VALUE=URI:https://ti.to/me-thee-music/sullivan-robbins
URL;VALUE=URI:https://ti.to/me-thee-music/sullivan-robbins
END:VEVENT
END:VCALENDAR
