BEGIN:VCALENDAR
VERSION:2.0
PRODID:icalendar-ruby
CALSCALE:GREGORIAN
BEGIN:VEVENT
DTSTAMP:20260421T120740Z
UID:BxRg5A
DTSTART:20241004T200000
DTEND:20241004T220000
CLASS:PUBLIC
CREATED:20240517T071043
DESCRIPTION: Doors open at 7:15 | Music starts at 8:00 \n\n Please note tha
 t we don’t send you tickets\; you just check in at the door. \n
LAST-MODIFIED:20240828T031111
LOCATION:28 Mugford St\, Marblehead\, Mass.
ORGANIZER:mailto:tickets@meandthee.org
SUMMARY:Scott Cook and Pamela Mae
URL;VALUE=URI:https://ti.to/me-thee-music/scott-cook
URL;VALUE=URI:https://ti.to/me-thee-music/scott-cook
END:VEVENT
END:VCALENDAR
