BEGIN:VCALENDAR
VERSION:2.0
PRODID:icalendar-ruby
CALSCALE:GREGORIAN
BEGIN:VEVENT
DTSTAMP:20260423T133911Z
UID:tBM83Q
DTSTART:20241122T200000
DTEND:20241122T220000
CLASS:PUBLIC
CREATED:20240604T193738
DESCRIPTION: Sarah Blacker opens \n\n \n \n\n Doors open at 7:15 | Music st
 arts at 8:00 \n\n Please note that we don’t send you tickets\; you just 
 check in at the door.\n``` \n
LAST-MODIFIED:20241122T155005
LOCATION:28 Mugford St\, Marblehead\, Mass.
ORGANIZER:mailto:tickets@meandthee.org
SUMMARY:Patty Larkin
URL;VALUE=URI:https://ti.to/me-thee-music/patty-larkin-2024
URL;VALUE=URI:https://ti.to/me-thee-music/patty-larkin-2024
END:VEVENT
END:VCALENDAR
