BEGIN:VCALENDAR
VERSION:2.0
PRODID:icalendar-ruby
CALSCALE:GREGORIAN
BEGIN:VEVENT
DTSTAMP:20260424T115151Z
UID:LmVRvw
DTSTART;VALUE=DATE:20240216
DTEND;VALUE=DATE:20240217
CLASS:PUBLIC
CREATED:20231115T202745
DESCRIPTION: Doors open at 7:15 | Music starts at 8:00 \n\n Please note tha
 t we don’t send you tickets\; you just check in at the door. \n
LAST-MODIFIED:20240828T031111
LOCATION:28 Mugford St\, Marblehead\, Mass.
ORGANIZER:mailto:tickets@meandthee.org
SUMMARY:Amy Speace
URL;VALUE=URI:https://ti.to/me-thee-music/amy-speace
URL;VALUE=URI:https://ti.to/me-thee-music/amy-speace
END:VEVENT
END:VCALENDAR
