BEGIN:VCALENDAR
VERSION:2.0
PRODID:icalendar-ruby
CALSCALE:GREGORIAN
BEGIN:VEVENT
DTSTAMP:20260421T143251Z
UID:ct8Ltg
DTSTART;VALUE=DATE:20190423
DTEND;VALUE=DATE:20190424
CLASS:PUBLIC
CREATED:20190326T034352
DESCRIPTION: Mozilla Developer Roadshow is excited to present with VR visio
 nary Nonny de la Peña and Emblematic Group the story of how their enginee
 ring team successfully developed their latest project\, REACH in WebVR.  \
 n\n Along with the presentation\, the Emblematic team will walk through a 
 demonstration of their product and answer questions during the social hour
  to share their success and challenges of developing for the web. \n\n Doo
 rs open at 1.30pm with Talks and Demo kicking off at 2pm\, and Social Hour
  starting at 3.00pm.  \n\n Location is LMU Playa Vista Campus\, 12105 E Wa
 terfront Dr\, Los Angeles\, CA 90094 \n\n See Agenda details below. \n\n M
 any thanks to our venue sponsor Loyola Marymount University for hosting ou
 r first 2019 DevRoadshow session at their new campus in Playa Vista. \n\n 
  \n
LAST-MODIFIED:20190423T191326
LOCATION:LMU Playa Vista Campus
ORGANIZER:mailto:spersing@mozilla.com
SUMMARY:2019 Developer Roadshow Los Angeles
URL;VALUE=URI:https://ti.to/mdn/mozilla-developer-roadshow-2019-LA
URL;VALUE=URI:https://ti.to/mdn/mozilla-developer-roadshow-2019-LA
END:VEVENT
END:VCALENDAR
