BEGIN:VCALENDAR
VERSION:2.0
PRODID:icalendar-ruby
CALSCALE:GREGORIAN
BEGIN:VEVENT
DTSTAMP:20260422T182916Z
UID:A1x8ig
DTSTART;VALUE=DATE:20191113
DTEND;VALUE=DATE:20191114
CLASS:PUBLIC
CREATED:20190816T153122
DESCRIPTION: Mozilla Developer Roadshow is excited to join developers and w
 eb creators at 구글 스타트업 캠퍼스 / Google for Startups Campus 
 in Seoul! \n\n Hear from our Mozillians and friends on some of the best pr
 actices on the web platform including privacy and security guidance on bui
 lding an immersive web browser\, common tooling to build for virtual and a
 ugmented reality\, using Firefox DevTools to learn modern CSS layouts\, ho
 w Mixed Reality is reshaping everything on the web \n\n Doors open at 6pm 
 with Talks kicking off at 6.30pm\, and Social Session to close the event. 
 \n\n All events are free\, but please RSVP and confirm attendance since we
  will be providing food and beverages throughout the sessions. \n
LAST-MODIFIED:20191113T090135
LOCATION:Seoul\, Korea
ORGANIZER:mailto:spersing@mozilla.com
SUMMARY:2019 Developer Roadshow Asia: Seoul
URL;VALUE=URI:https://ti.to/mdn/mozilla-developer-roadshow-2019-Asia-Seoul
URL;VALUE=URI:https://ti.to/mdn/mozilla-developer-roadshow-2019-Asia-Seoul
END:VEVENT
END:VCALENDAR
