BEGIN:VCALENDAR
VERSION:2.0
PRODID:icalendar-ruby
CALSCALE:GREGORIAN
BEGIN:VEVENT
DTSTAMP:20260424T144458Z
UID:Oe31wg
DTSTART;VALUE=DATE:20171007
DTEND;VALUE=DATE:20171008
CLASS:PUBLIC
CREATED:20170413T090421
DESCRIPTION: Mayhem is a challenging cross-country obstacle course which is
  designed to cater to all abilities while offering a fantastic team buildi
 ng challenge! All entries include a complimentary t-shirt\, segregated hot
  showers\, hot refreshments and snacks after you finish! \n\n Challenger 5
 K – 30 Obstacles\, \nWarrior 10K – 60 Obstacles\, \nTitan 15K – 90 O
 bstacles. \n\n Discount Codes for Groups:\n4 or more tickets purchased: Us
 e GROUP4 for 10%\n10 or more tickets purchased: Use GROUP10 for 15% discou
 nt\n20 or more tickets purchased: Use GROUP20 or 25% discount \n
LAST-MODIFIED:20171009T103408
LOCATION:Kedrah\, Cahir
ORGANIZER:mailto:theteam@mayhem.ie
SUMMARY:Mayhem
URL;VALUE=URI:https://ti.to/mayhem/mayhem-xiii
URL;VALUE=URI:https://ti.to/mayhem/mayhem-xiii
END:VEVENT
END:VCALENDAR
