BEGIN:VCALENDAR
VERSION:2.0
PRODID:icalendar-ruby
CALSCALE:GREGORIAN
BEGIN:VEVENT
DTSTAMP:20260424T223927Z
UID:GXFjhA
DTSTART;VALUE=DATE:20150729
DTEND;VALUE=DATE:20150730
CLASS:PUBLIC
CREATED:20150720T220436
DESCRIPTION: Please join Cards Against Humanity as we host Cindy Cohn\, the
  new Executive Director of the EFF\, for a meet-and-greet and all-star com
 edy show here in Chicago. \n
LAST-MODIFIED:20150804T154520
LOCATION:1917 N. Elston Ave.
ORGANIZER:mailto:kevin@cardsagainsthumanity.com
SUMMARY:EFF Fundraiser
URL;VALUE=URI:https://ti.to/maxtemkin/EFF
URL;VALUE=URI:https://ti.to/maxtemkin/EFF
END:VEVENT
END:VCALENDAR
