BEGIN:VCALENDAR
VERSION:2.0
PRODID:icalendar-ruby
CALSCALE:GREGORIAN
BEGIN:VTIMEZONE
TZID:Pacific/Auckland
BEGIN:DAYLIGHT
DTSTART:20220925T030000
TZOFFSETFROM:+1200
TZOFFSETTO:+1300
RRULE:FREQ=YEARLY;BYDAY=-1SU;BYMONTH=9
TZNAME:NZDT
END:DAYLIGHT
BEGIN:STANDARD
DTSTART:20230402T020000
TZOFFSETFROM:+1300
TZOFFSETTO:+1200
RRULE:FREQ=YEARLY;BYDAY=1SU;BYMONTH=4
TZNAME:NZST
END:STANDARD
END:VTIMEZONE
BEGIN:VEVENT
DTSTAMP:20260420T222647Z
UID:GXCFmg
DTSTART;VALUE=DATE:20230127
DTEND;VALUE=DATE:20230128
CLASS:PUBLIC
CREATED:20230117T224259
DESCRIPTION: Using open-source tools and cloud services means we can launch
  a minimal viable product based on years of well-tested code in mere hours
 . In this workshop\, Ben Dechrai from Auth0 will show you how to create a 
 new React JS single-page application\, host it and some lambda functions o
 n Netlify\, and add Auth0 and Stripe to handle the vast majority of the fu
 nctionality. No additional database will be required to get this fully fun
 ctional web store up and running! \n\n Space is limited\, so reserve your 
 spot now! \n\n January 27th\, 2023 - From 1pm to 4pm (NZT) \n\n Brought to
  you by mate.dev (Chris Mazur) \n
LAST-MODIFIED:20250414T193537
LOCATION:Zoom
ORGANIZER:mailto:noreply-calendar@tito.io
SUMMARY:Build your own Web Store in Hours - Workshop
URL;VALUE=URI:https://ti.to/matedev/build-your-own-web-store-in-hours-works
 hop
URL;VALUE=URI:https://ti.to/matedev/build-your-own-web-store-in-hours-works
 hop
END:VEVENT
END:VCALENDAR
