BEGIN:VCALENDAR
VERSION:2.0
PRODID:icalendar-ruby
CALSCALE:GREGORIAN
BEGIN:VEVENT
DTSTAMP:20260421T160132Z
UID:RcFNJQ
DTSTART;VALUE=DATE:20180621
DTEND;VALUE=DATE:20180622
CLASS:PUBLIC
CREATED:20180514T110133
DESCRIPTION: Celebramos el final de la segunda temporada con un programa es
 pecial: con público y con cinco invitados de esta segunda temporada para 
 los que se quedaron preguntas en el tintero.  \n\n ¡Preguntas que podrán
  hacer los asistentes! \n\n Y para terminar\, unas cañas\, por supuesto. 
 \n
LAST-MODIFIED:20231212T102856
LOCATION:Madrid
ORGANIZER:mailto:hola@masquestartups.com
SUMMARY:Programa final Temporada 2 de MasQueStartups
URL;VALUE=URI:https://ti.to/masquestartups/programa-final-temporada-2
URL;VALUE=URI:https://ti.to/masquestartups/programa-final-temporada-2
END:VEVENT
END:VCALENDAR
