BEGIN:VCALENDAR
VERSION:2.0
PRODID:icalendar-ruby
CALSCALE:GREGORIAN
BEGIN:VTIMEZONE
TZID:Europe/London
BEGIN:DAYLIGHT
DTSTART:20260329T020000
TZOFFSETFROM:+0000
TZOFFSETTO:+0100
RRULE:FREQ=YEARLY;BYDAY=-1SU;BYMONTH=3
TZNAME:BST
END:DAYLIGHT
BEGIN:STANDARD
DTSTART:20261025T010000
TZOFFSETFROM:+0100
TZOFFSETTO:+0000
RRULE:FREQ=YEARLY;BYDAY=-1SU;BYMONTH=10
TZNAME:GMT
END:STANDARD
END:VTIMEZONE
BEGIN:VEVENT
DTSTAMP:20260424T164329Z
UID:QzmsFQ
DTSTART;TZID=Europe/London:20260521T140000
DTEND;TZID=Europe/London:20260521T150000
CLASS:PUBLIC
CREATED:20260330T125246
DESCRIPTION: \n Join Lloyd’s Maritime Academy Course Directors Allan Lars
 en and Gemma Hancock as they share their extensive expertise in marine and
  small craft surveying. This webinar will explore key knowledge areas\, pr
 actical applications\, and essential skillsets for professionals in the ma
 ritime industry\, with a focus on real-world challenges and solutions. \n\
 n Participants of the Marine Surveying Masterclass: A Surveyor’s Perspec
 tive webinar can look forward to an engaging and insightful session that d
 elves into the intricacies of marine and small craft surveying. This maste
 rclass\, led by Lloyd’s Maritime Academy Course Directors Allan Larsen a
 nd Gemma Hancock\, is designed to provide both aspiring and experienced pr
 ofessionals in the maritime industry with valuable knowledge\, practical i
 nsights\, and actionable takeaways. \n \n
LAST-MODIFIED:20260424T093359
LOCATION:Webinar
ORGANIZER:mailto:events@maritimeinformationservices.com
SUMMARY:Marine Surveying Masterclass: A Surveyor’s Perspective
URL;VALUE=URI:https://ti.to/maritime-information-services/marine-surveying-
 masterclass
URL;VALUE=URI:https://ti.to/maritime-information-services/marine-surveying-
 masterclass
END:VEVENT
END:VCALENDAR
