BEGIN:VCALENDAR
VERSION:2.0
PRODID:icalendar-ruby
CALSCALE:GREGORIAN
BEGIN:VTIMEZONE
TZID:Australia/Perth
BEGIN:STANDARD
DTSTART:20090329T020000
TZOFFSETFROM:+0900
TZOFFSETTO:+0800
TZNAME:AWST
END:STANDARD
END:VTIMEZONE
BEGIN:VEVENT
DTSTAMP:20260425T130844Z
UID:SpDxbQ
DTSTART;VALUE=DATE:20230213
DTEND;VALUE=DATE:20230214
CLASS:PUBLIC
CREATED:20221206T213732
DESCRIPTION: In this half-day course\, you’ll learn how to use the powerf
 ul\, free and open source Mergin Maps in combination with QGIS to streamli
 ne your data collection process. \n\n The workshop \n\n We’ll present Me
 rgin Maps\, a modern data collection app allowing you to easily take your 
 QGIS projects offline and use them in the field. The course will go throug
 h the Mergin Maps ecosystem\, with hands-on exercises to deploy customised
  data collection apps. \n\n Participants will be guided through: \n\n \n h
 ow to prepare a field project in QGIS \n push it to their mobile \n captur
 e high quality data in the field \n sync the result back \n \n\n Mergin Ma
 ps makes it very simple to deploy and share projects straight from QGIS. \
 n\n Who should attend \n\n Geologists\, environmental scientists\, anyone 
 involved with collecting data in the field. \n\n Certification \n\n Mammot
 h Geospatial is an official QGIS Certifying Organisation. Participants in 
 our workshops will receive an official QGIS certificate\, providing direct
  financial support to the QGIS project. \n\n About QGIS \n\n Mining &amp\;
  exploration companies worldwide are adopting QGIS because it's powerful\,
  intuitive\, and free.  \n\n This free and open source desktop GIS runs on
  all major operating systems\, and is used worldwide by a user community o
 f millions. \n\n QGIS is professional grade and can do the majority of dat
 a import\, data display\, analysis and map production required by today’
 s geoscientists. A wide variety of free geological symbols and patterns ar
 e available for mapping\, and a growing number of plugins are available to
  support your geoscience workflow. \n
LAST-MODIFIED:20240122T170332
LOCATION:Perth\, Australia
ORGANIZER:mailto:training@mammothgeospatial.com
SUMMARY:Mobile Data Collection with Mergin Maps and QGIS
URL;VALUE=URI:https://ti.to/mammoth-geospatial/q4mex-mobile-data-collection
 -mergin-maps-20230213
URL;VALUE=URI:https://ti.to/mammoth-geospatial/q4mex-mobile-data-collection
 -mergin-maps-20230213
END:VEVENT
END:VCALENDAR
