BEGIN:VCALENDAR
VERSION:2.0
PRODID:icalendar-ruby
CALSCALE:GREGORIAN
BEGIN:VTIMEZONE
TZID:Australia/Perth
BEGIN:STANDARD
DTSTART:20090329T020000
TZOFFSETFROM:+0900
TZOFFSETTO:+0800
TZNAME:AWST
END:STANDARD
END:VTIMEZONE
BEGIN:VEVENT
DTSTAMP:20260425T152022Z
UID:aqOCMw
DTSTART;VALUE=DATE:20230112
DTEND;VALUE=DATE:20230114
CLASS:PUBLIC
CREATED:20221204T181514
DESCRIPTION: In this two day QGIS workshop for Mining &amp\; Exploration pr
 ofessionals\, we'll help you discover how you can use this powerful tool i
 n your workflow. \n\n The workshop \n\n In this hands-on workshop\, we’l
 l cover the key features of QGIS including: \n\n \n importing\, exporting 
 and editing raster &amp\; vector geospatial data \n data-driven visualisat
 ion and analysis \n creating professional-looking maps \n using QGIS plugi
 ns for geology-specific workflows such as producing sections \n sources of
  free geoscience data\, satellite imagery\, and templates \n \n\n Who shou
 ld attend \n\n Geologists\, geoscientists\, field staff\, GIS professional
 s\, exploration managers\, database administrators and others. \n\n Certif
 ication \n\n Mammoth Geospatial is an official QGIS Certifying Organisatio
 n. Successful participants in our workshops will receive an official QGIS 
 certificate\, providing direct financial support to the QGIS project. \n\n
  About QGIS \n\n Mining &amp\; exploration companies worldwide are adoptin
 g QGIS because it's powerful\, intuitive\, and free.  \n\n This free and o
 pen source desktop GIS runs on all major operating systems\, and is used w
 orldwide by a user community of millions. \n\n QGIS is professional grade 
 and can do the majority of data import\, data display\, analysis and map p
 roduction required by today’s geoscientists. A wide variety of free geol
 ogical symbols and patterns are available for mapping\, and a growing numb
 er of plugins are available to support your geoscience workflow. \n
LAST-MODIFIED:20240122T172422
LOCATION:Perth\, Australia
ORGANIZER:mailto:john@mammothgeospatial.com
SUMMARY:Introduction to QGIS for Mining & Exploration
URL;VALUE=URI:https://ti.to/mammoth-geospatial/q4mex-intro-to-qgis-20230112
URL;VALUE=URI:https://ti.to/mammoth-geospatial/q4mex-intro-to-qgis-20230112
END:VEVENT
END:VCALENDAR
