BEGIN:VCALENDAR
VERSION:2.0
PRODID:icalendar-ruby
CALSCALE:GREGORIAN
BEGIN:VTIMEZONE
TZID:Australia/Perth
BEGIN:STANDARD
DTSTART:20090329T020000
TZOFFSETFROM:+0900
TZOFFSETTO:+0800
TZNAME:AWST
END:STANDARD
END:VTIMEZONE
BEGIN:VEVENT
DTSTAMP:20260425T195109Z
UID:EjOrjg
DTSTART;VALUE=DATE:20221027
DTEND;VALUE=DATE:20221029
CLASS:PUBLIC
CREATED:20220914T142707
DESCRIPTION: QGIS workshop for mining &amp\; exploration professionals \n\n
  Mining &amp\; exploration companies worldwide are adopting QGIS because i
 t's powerful\, easy to use\, and free. Join us for this two day deep dive 
 into QGIS\, where we'll help you discover how to use this powerful tool in
  your workflow. \n\n About QGIS \n\n QGIS is a free and open source GIS th
 at runs on all major operating systems. It’s available in about 40 langu
 ages and used worldwide by a large and growing user community. New feature
 s are added at a dizzying pace by a talented global team of developers. \n
 \n QGIS is professional grade and can do the majority of data import\, dat
 a display\, analysis and map production required by today’s geoscientist
 s. A wide variety of free geological symbols and patterns are available fo
 r mapping\, and a growing number of plugins are available to support your 
 geoscience workflow. \n\n The workshop \n\n This hands-on workshop is desi
 gned for new and experienced users of GIS. We’ll cover topics including:
  \n\n \n key features of QGIS \n sources of free geoscience data\, satelli
 te imagery\, and templates \n importing\, exporting\, editing\, and analys
 ing geospatial data \n creating professional-looking maps \n geology-speci
 fic workflows and tools \n \n\n Who should attend \n\n Geologists\, geosci
 entists\, field staff\, GIS professionals\, exploration managers\, geoscie
 ntific information managers and others will learn about QGIS and how they 
 can use it in their mining &amp\; exploration workflow. \n\n Certification
  \n\n Mammoth Geospatial is an official QGIS Certifying Organisation. Succ
 essful participants in our workshops will receive an official QGIS certifi
 cate. The certificate program provides a mechanism to financially support 
 the QGIS project. \n
LAST-MODIFIED:20240122T170332
LOCATION:Perth\, Australia
ORGANIZER:mailto:john@mammothgeospatial.com
SUMMARY:Introduction to QGIS for Mining & Exploration
URL;VALUE=URI:https://ti.to/mammoth-geospatial/q4mex-intro-to-qgis-20221027
URL;VALUE=URI:https://ti.to/mammoth-geospatial/q4mex-intro-to-qgis-20221027
END:VEVENT
END:VCALENDAR
