BEGIN:VCALENDAR
VERSION:2.0
PRODID:icalendar-ruby
CALSCALE:GREGORIAN
BEGIN:VEVENT
DTSTAMP:20260423T053531Z
UID:Qra2QA
DTSTART;VALUE=DATE:20191119
DTEND;VALUE=DATE:20191120
CLASS:PUBLIC
CREATED:20191106T151754
DESCRIPTION: At this month's Ladies that UX London event we have a panel di
 scussion for design leadership. This is our 5th year running this popular 
 event! \n\n \n\n The transition from a designer to a leadership role is ha
 rd for many designers. We might spend more time having meetings with execu
 tive level than hand-crafting the design. We might face a lot of anxiety a
 nd emotional challenges to make a decision that impacts the whole organisa
 tion. We might need to lead a team without much prior people management ex
 perience.  \n\n We will have 3 influential leaders in the industry to talk
  about their experiences and challenges they have faced. This will prepare
  you for the situations you might face\, inspire your leadership style and
  accelerate your career development.   \n\n Foolproof’s Amy Shore\, a se
 nior UX consultant\, will chair the discussion and explore: \n\n What advi
 ce these leaders wish they had been given when they were younger \n\n Mist
 akes they have made along the way and how it has made them better leaders 
 \n\n What lessons can be taken going forward as a leader \n\n How to overc
 ome past challenges to lead better \n\n Panel speakers for the evening \n\
 n Amy Shore | Senior UX consultant\, Foolproof \n\n Amy is a Senior Consul
 tant at Foolproof who generates customer insight for our designers to work
  off of and against. She also\, within project teams\, devotes time to the
  management and delivery of research engagements. \n\n @ishoream \n\n http
 s://www.linkedin.com/in/amyvshore/ \n\n Niki Forecast | Senior Product Des
 igner\, what3words \n\n Niki has worked in the digital industry for eight 
 years\, and has led the design and UX on over 40 projects in innovation\, 
 digital health\, and financial technology. She is currently Senior Product
  Designer at what3words\; a geocode tech-startup based in London where she
  supports the design and UX on their various digital products. \n\n @nikif
 orecast  \n\n https://uk.linkedin.com/in/niki-forecast-b8077949 \n\n Liz L
 eBlanc | Associate Head of Design\, Livework Studio \n\n Liz started her d
 esign career 12 years ago by pretending to be a graphic designer. She is n
 ow Associate Head of Design at Livework Studio\, a service design agency. 
 \n\n @bookofliz \n\n https://www.linkedin.com/in/liz-leblanc-77bb7731/ \n\
 n Paula Mariani | UX Director\, Adevinta \n\n Over the pasts years\, I’v
 e been leading User Experience departments within startups and enterprises
 . I care about putting together teams that can create\, learn\, and have f
 un together. \n\n https://www.linkedin.com/in/paulamariani/ \n\n \n\n Sche
 dule \n\n 6.00pm - Arrive/Drinks &amp\; Nibbles \n\n 6:45pm - Welcome and 
 intro by Ladies that UX  \n\n 6:55pm - Intro by Foolproof \n\n 7:00pm - Pa
 nel \n\n 8:00pm - Questions and discussion \n\n 8.30pm – Drinks &amp\; N
 etwork \n\n 9.00pm – Close \n\n \n\n We only allow one ticket per person
 . We reserve the right to cancel duplicates without warning. \n\n This mon
 th we are giving people the choice to donate their ticket price of £5 to 
 a charity (to be announced on the night) or request a refund (only availab
 le if you attend the event or cancel at least 24 hours before). We care fo
 r all our events to be financially accessible for everyone. If you would l
 ike to attend the event but are unable to pay the fee\, please contact us 
 at london@ladiesthatux\,com \n\n \n\n We ask that you respect that this is
  a ladies only event open to those who self-identify as women or identify 
 as gender non-conforming. \n\n \n\n We take photos to use on our social me
 dia during the event. If you don't want to be in the photos please speak t
 o the photographer on the night. \n
LAST-MODIFIED:20200805T151126
LOCATION:Foolproof HQ
ORGANIZER:mailto:london@ladiesthatux.com
SUMMARY:Ladies that UX London presents Design Leadership
URL;VALUE=URI:https://ti.to/ltuxlondon/ladies-that-ux-london-presents-desig
 n-leadership
URL;VALUE=URI:https://ti.to/ltuxlondon/ladies-that-ux-london-presents-desig
 n-leadership
END:VEVENT
END:VCALENDAR
