BEGIN:VCALENDAR
VERSION:2.0
PRODID:icalendar-ruby
CALSCALE:GREGORIAN
BEGIN:VEVENT
DTSTAMP:20260423T083149Z
UID:y1CHJA
DTSTART;VALUE=DATE:20190712
DTEND;VALUE=DATE:20190713
CLASS:PUBLIC
CREATED:20190525T115103
DESCRIPTION: Experience a world of distilled luxury\, with six drams of pre
 mium single malt whisky from around the globe. From Scotland via Sweden to
  Japan\, virgin casks to heavily smoked\, we'll have something special for
  every palette.  \n\n The event starts at 8pm. Over 18s only. Under 25s wi
 ll need to show photo ID on arrival. Sorry\, no refunds. \n\n UPDATE: Onli
 ne tickets for this event are now closed.  If you would like to buy a tick
 et please contact ben@lovesfarmhouse.co.uk. \n
LAST-MODIFIED:20251203T092022
LOCATION:Love's Farm House
ORGANIZER:mailto:bookings@lovesfarmhouse.co.uk
SUMMARY:A Midsummer Night's Dram
URL;VALUE=URI:https://ti.to/loves-farm-house/whisky-1
URL;VALUE=URI:https://ti.to/loves-farm-house/whisky-1
END:VEVENT
END:VCALENDAR
