BEGIN:VCALENDAR
VERSION:2.0
PRODID:icalendar-ruby
CALSCALE:GREGORIAN
BEGIN:VTIMEZONE
TZID:Europe/London
BEGIN:DAYLIGHT
DTSTART:20240331T020000
TZOFFSETFROM:+0000
TZOFFSETTO:+0100
RRULE:FREQ=YEARLY;BYDAY=-1SU;BYMONTH=3
TZNAME:BST
END:DAYLIGHT
BEGIN:STANDARD
DTSTART:20231029T010000
TZOFFSETFROM:+0100
TZOFFSETTO:+0000
RRULE:FREQ=YEARLY;BYDAY=-1SU;BYMONTH=10
TZNAME:GMT
END:STANDARD
END:VTIMEZONE
BEGIN:VEVENT
DTSTAMP:20260423T080833Z
UID:mzMi2A
DTSTART;TZID=Europe/London:20240217T180000
DTEND;TZID=Europe/London:20240217T210000
CLASS:PUBLIC
CREATED:20240116T133153
DESCRIPTION: Come and celebrate Valentine's Day with the whole family this 
 February at the Love's Farm House Valentine's Disco! \n\n No babysitter? N
 o problem! You and your partner can enjoy a relaxing drink from our licens
 ed bar in our beautifully decorated hall\, while the kids enjoy some games
  and dancing. Or if you're flying solo\, bring the kids as your date for p
 lenty of family fun. \n\n We'll be dancing to a mix of the latest hits and
  cheesy (but catchy) love songs. Children can enjoy some Valentine's craft
 s and plenty of games with great prizes\, and we'll have Valentine's theme
 d cocktails\, mocktails and snacks on offer as well as our regular bar men
 u. \n\n For those of you who like to combine their Valentine's and Pancake
  Day celebrations\, we'll have Little Dutch Bites on site offering their d
 elicious poffertjes (mini Dutch pancakes). \n\n Tickets cost £3 per perso
 n (babies under 1 are free). All children must be accompanied by a parent 
 or carer\, who must have their own ticket. Sorry\, no refunds. \n
LAST-MODIFIED:20251203T092022
LOCATION:Love's Farm House
ORGANIZER:mailto:bookings@lovesfarmhouse.co.uk
SUMMARY:Valentine's Disco 2024
URL;VALUE=URI:https://ti.to/loves-farm-house/valentines-disco-2024
URL;VALUE=URI:https://ti.to/loves-farm-house/valentines-disco-2024
END:VEVENT
END:VCALENDAR
