BEGIN:VCALENDAR
VERSION:2.0
PRODID:icalendar-ruby
CALSCALE:GREGORIAN
BEGIN:VEVENT
DTSTAMP:20260423T111742Z
UID:4KGhfA
DTSTART:20250417T094500
DTEND:20250417T123000
CLASS:PUBLIC
CREATED:20250206T092144
DESCRIPTION: To kick start Love's Farm House 10 years celebrations we are b
 ringing a magical show with AMA theatre company this Easter! \n\n Children
  can enjoy a fun-filled\, captivating show combining magic\, puppets and l
 ough-out-loud moments\, while their parent/carer can sit back\, relax and 
 enjoy a selection of hot and cold drinks (available to purchase from the c
 afe throughout the event). \n\n The show is 1 hr long with performances st
 arting at 10am or 11.30am (please arrive 10 minutes before start time). Al
 l children must be accompanied by a parent or carer\; one parent or carer 
 can attend for free with their child/children. \n\n Tickets cost £6 per c
 hild (siblings under 1 are free). \n\n Sorry\, no refunds. \n
LAST-MODIFIED:20251203T092022
LOCATION:Love's Farm House
ORGANIZER:mailto:bookings@lovesfarmhouse.co.uk
SUMMARY:The King's Cake
URL;VALUE=URI:https://ti.to/loves-farm-house/the-kings-cake
URL;VALUE=URI:https://ti.to/loves-farm-house/the-kings-cake
END:VEVENT
END:VCALENDAR
