BEGIN:VCALENDAR
VERSION:2.0
PRODID:icalendar-ruby
CALSCALE:GREGORIAN
BEGIN:VEVENT
DTSTAMP:20260423T081227Z
UID:bd6yUw
DTSTART;VALUE=DATE:20181110
DTEND;VALUE=DATE:20181111
CLASS:PUBLIC
CREATED:20181004T221539
DESCRIPTION: Big Deal Comedy presents some of the best new and established 
 comics on the UK circuit. \nJason Stampe is your host for a night of high-
 rolling entertainment.   \n\n Doors 7:30pm\, show starts at 8pm. Reasonabl
 y priced\, well stocked bar open until midnight.\nOver 18s only (under 25s
  require ID) \n
LAST-MODIFIED:20251203T092022
LOCATION:Love's Farm House
ORGANIZER:mailto:bookings@lovesfarmhouse.co.uk
SUMMARY:Stand-up Comedy Night
URL;VALUE=URI:https://ti.to/loves-farm-house/standup-Nov18
URL;VALUE=URI:https://ti.to/loves-farm-house/standup-Nov18
END:VEVENT
END:VCALENDAR
