BEGIN:VCALENDAR
VERSION:2.0
PRODID:icalendar-ruby
CALSCALE:GREGORIAN
BEGIN:VTIMEZONE
TZID:Europe/London
BEGIN:DAYLIGHT
DTSTART:20230326T020000
TZOFFSETFROM:+0000
TZOFFSETTO:+0100
RRULE:FREQ=YEARLY;BYDAY=-1SU;BYMONTH=3
TZNAME:BST
END:DAYLIGHT
BEGIN:STANDARD
DTSTART:20231029T010000
TZOFFSETFROM:+0100
TZOFFSETTO:+0000
RRULE:FREQ=YEARLY;BYDAY=-1SU;BYMONTH=10
TZNAME:GMT
END:STANDARD
END:VTIMEZONE
BEGIN:VEVENT
DTSTAMP:20260423T094106Z
UID:7c0mPw
DTSTART;VALUE=DATE:20230722
DTEND;VALUE=DATE:20230723
CLASS:PUBLIC
CREATED:20230620T122906
DESCRIPTION: School's out for six whole weeks and we'll be celebrating with
  a disco\, Love's Farm House style\, on Saturday 22nd July from 5-9pm. \n\
 n We'll be dusting off the summer playlist\, switching on the disco lights
  and providing lots of holiday fun for everyone\, so bring the whole famil
 y. There will be games for the children\, and Silver Rock Designs will be 
 providing craft activities to keep them busy. We'll be selling ice lollies
  and other snacks to keep you cool\, and of course the bar will be open so
  parents can relax with a drink while the kids have fun. \n\n Tickets cost
  £3 per person (babies under 1 are free). All children must be accompanie
 d by a parent or carer\, who must have their own ticket. Sorry\, no refund
 s. \n
LAST-MODIFIED:20251203T092022
LOCATION:Love's Farm House
ORGANIZER:mailto:bookings@lovesfarmhouse.co.uk
SUMMARY:School's Out Disco
URL;VALUE=URI:https://ti.to/loves-farm-house/schools-out-disco
URL;VALUE=URI:https://ti.to/loves-farm-house/schools-out-disco
END:VEVENT
END:VCALENDAR
