BEGIN:VCALENDAR
VERSION:2.0
PRODID:icalendar-ruby
CALSCALE:GREGORIAN
BEGIN:VTIMEZONE
TZID:Europe/London
BEGIN:DAYLIGHT
DTSTART:20260329T020000
TZOFFSETFROM:+0000
TZOFFSETTO:+0100
RRULE:FREQ=YEARLY;BYDAY=-1SU;BYMONTH=3
TZNAME:BST
END:DAYLIGHT
BEGIN:STANDARD
DTSTART:20251026T010000
TZOFFSETFROM:+0100
TZOFFSETTO:+0000
RRULE:FREQ=YEARLY;BYDAY=-1SU;BYMONTH=10
TZNAME:GMT
END:STANDARD
END:VTIMEZONE
BEGIN:VEVENT
DTSTAMP:20260423T094020Z
UID:CX6imA
DTSTART;TZID=Europe/London:20251107T193000
DTEND;TZID=Europe/London:20251107T230000
CLASS:PUBLIC
CREATED:20250704T142942
DESCRIPTION: Back by popular demand!! Join us for a brilliant evening of qu
 izzing\, in aid of our lovely school PTA. The event will be held at Love's
  Farm House\, PE19 6SL from 7.30pm on Friday 7th November 2025 (with quizz
 ing starting at approximately 8pm). \n\n A massive thanks to Love's Farm H
 ouse for partnering up with us for our event! \n\n Tickets are £5 per per
 son which includes welcome snacks. The bar will be open and will be sellin
 g alcoholic and non alcoholic drinks. \n\n Strictly Age 16+ (must be with 
 a responsible adult). \n\n 6 people maximum per team\, prizes for the best
  (and worst)! \n\n We look forward to seeing you there :) \n\n Sorry\, no 
 refunds! \n
LAST-MODIFIED:20251203T092022
LOCATION:Love's Farm House\, PE19 6SL
ORGANIZER:mailto:bookings@lovesfarmhouse.co.uk
SUMMARY:The Round House PTA Quiz Night at Love's Farm House - Friday 7th No
 vember 2025
URL;VALUE=URI:https://ti.to/loves-farm-house/round-house-pta-quiz-nov7
URL;VALUE=URI:https://ti.to/loves-farm-house/round-house-pta-quiz-nov7
END:VEVENT
END:VCALENDAR
