BEGIN:VCALENDAR
VERSION:2.0
PRODID:icalendar-ruby
CALSCALE:GREGORIAN
BEGIN:VEVENT
DTSTAMP:20260423T093613Z
UID:hyaOvg
DTSTART:20260306T193000
DTEND:20260306T223000
CLASS:PUBLIC
CREATED:20251205T120120
DESCRIPTION: THIS EVENT IS NOW SOLD OUT - THANK YOU \n\n Join us once again
  in collaboration with The Paint Club\, who will be here on the 6th of Mar
 ch 2026 for another exciting Sip and Paint session\, this time helping you
  create your own version of "The Fox in the Golden Forest". \n\n Tickets i
 nclude professional instructions from an artist\, painting materials\, plu
 s a canvas to take home at the end of the workshop. \n\n The bar will be o
 pen to quench your thirst! Alcoholic and non alcoholic drinks available.  
 \n\n Doors open at 7.30pm\, with the painting starting around 8pm \n
LAST-MODIFIED:20260223T142251
LOCATION:Love's Farm House 
ORGANIZER:mailto:bookings@lovesfarmhouse.co.uk
SUMMARY:SOLD OUT!!!! Paint and Sip Event with The Paint Club - The Fox in t
 he Golden Forest
URL;VALUE=URI:https://ti.to/loves-farm-house/paint-and-sip-6th-march
URL;VALUE=URI:https://ti.to/loves-farm-house/paint-and-sip-6th-march
END:VEVENT
END:VCALENDAR
