BEGIN:VCALENDAR
VERSION:2.0
PRODID:icalendar-ruby
CALSCALE:GREGORIAN
BEGIN:VEVENT
DTSTAMP:20260423T094359Z
UID:AA5dbw
DTSTART;VALUE=DATE:20231209
DTEND;VALUE=DATE:20231210
CLASS:PUBLIC
CREATED:20230524T094202
DESCRIPTION: It's 1938 in London and a group of strangers find themselves s
 tuck in a hotel together. \n\n What could possibly go wrong? \n\n We need 
 YOU to help investigate the clues\, interrogate the suspects and solve the
  murder! \n\n Join us at Love's Farm House on Saturday 9th December from 7
 .45-11pm to see if you can crack the case. Tickets cost £25 per person\, 
 with teams of up to 8 people (smaller teams may be seated together). Your 
 ticket includes a glass of prosecco / soft drink on arrival. Fancy dress o
 ptional but encouraged! \n\n Ages 16+ only. Anyone who is lucky enough to 
 look under 25 will need to bring ID proving they are aged 18 or over in or
 der to purchase alcohol and / or receive a free glass of prosecco. Plenty 
 of soft drink options will be available. \n\n Sorry\, no refunds. \n
LAST-MODIFIED:20251203T092022
LOCATION:Love's Farm House
ORGANIZER:mailto:bookings@lovesfarmhouse.co.uk
SUMMARY:Murder at the Grosvenor - A Vintage Murder Mystery Evening
URL;VALUE=URI:https://ti.to/loves-farm-house/murder-at-the-grosvenor-a-murd
 er-mystery-evening
URL;VALUE=URI:https://ti.to/loves-farm-house/murder-at-the-grosvenor-a-murd
 er-mystery-evening
END:VEVENT
END:VCALENDAR
