BEGIN:VCALENDAR
VERSION:2.0
PRODID:icalendar-ruby
CALSCALE:GREGORIAN
BEGIN:VEVENT
DTSTAMP:20260423T093521Z
UID:tfolnw
DTSTART;VALUE=DATE:20190308
DTEND;VALUE=DATE:20190309
CLASS:PUBLIC
CREATED:20190127T105719
DESCRIPTION: Local Ale &amp\; Cheese Tasting Evening  \n\n Friday 8 March\,
  8pm - midnight at Love’s Farm House \n\n Love’s Farm House is teaming
  up with Shumë Bottle Emporium for an evening of discovery\, celebration 
 and straight-up enjoyment of local beers\, ciders and cheeses. There will 
 be over 30 beers and ciders to choose from including a selection from Papw
 orth Brewery\, Drawcott Brewery in Buckden\, Wylde Sky in Linton\, South C
 ambs and Three Hills in Kettering. We’ll be pairing these with the best 
 cheeses from Suffolk\, Lincolnshire and Nottinghamshire\, so get your tast
 e buds ready for some big\, bountiful flavours.  \n\n Tickets cost £15 fo
 r a sampling menu of five beers and five cheeses\, with a wider range avai
 lable to order at the bar.  \n\n No under 18s. 18-25-year-olds will requir
 e photo ID. \n
LAST-MODIFIED:20251203T092022
LOCATION:Love's Farm House\, 17 Kester Way\, St Neots PE19 6GN
ORGANIZER:mailto:bookings@lovesfarmhouse.co.uk
SUMMARY:Local Ale and Cheese Tasting Evening
URL;VALUE=URI:https://ti.to/loves-farm-house/local-ale
URL;VALUE=URI:https://ti.to/loves-farm-house/local-ale
END:VEVENT
END:VCALENDAR
