BEGIN:VCALENDAR
VERSION:2.0
PRODID:icalendar-ruby
CALSCALE:GREGORIAN
BEGIN:VEVENT
DTSTAMP:20260423T100000Z
UID:aZdmhw
DTSTART;VALUE=DATE:20181027
DTEND;VALUE=DATE:20181028
CLASS:PUBLIC
CREATED:20180914T114443
DESCRIPTION: Love’s Farm Halloween Disco -\nSaturday 27 October 6-9pm at 
 Love’s Farm House \n\n Unearth your most ghoulish costumes and terrifyin
 g dance moves for our annual Halloween Disco. There will be fun and games 
 for younger children from 6pm and a disco inferno for all ages from 7pm. \
 n
LAST-MODIFIED:20251203T092022
LOCATION:Love's Farm House\, 17 Kester Way\, St Neots PE19 6GN
ORGANIZER:mailto:bookings@lovesfarmhouse.co.uk
SUMMARY:Love's Farm House Halloween Disco
URL;VALUE=URI:https://ti.to/loves-farm-house/halloween-disco
URL;VALUE=URI:https://ti.to/loves-farm-house/halloween-disco
END:VEVENT
END:VCALENDAR
