BEGIN:VCALENDAR
VERSION:2.0
PRODID:icalendar-ruby
CALSCALE:GREGORIAN
BEGIN:VEVENT
DTSTAMP:20260423T093746Z
UID:zOkkJA
DTSTART;VALUE=DATE:20190510
DTEND;VALUE=DATE:20190511
CLASS:PUBLIC
CREATED:20190326T214305
DESCRIPTION: Gin lovers rejoice\, science geeks get giddy with excitement\,
  for it’s the return of Gin Lab: St Neots’ premier gin-tasting experie
 nce.  \n\n Our team of intrepid lab technicians have spent the last six mo
 nths painstakingly hunting down and analysing the best boutique gins from 
 around the world. We’re going high end this time around\, so while there
 ’s slightly less quantity on the tasting menu\, the quality will be off 
 the chart. \n\n Your £20 ticket will give you a half-measure taste of eig
 ht sumptuous gins\, plus tonic and a plate full of garnishes with which to
  adorn your glass. Try the distiller-recommended garnish\, follow our lab 
 technician’s advice or come up with your own experimental concoctions. W
 hen you’ve found your winning combination\, your ticket also gets you a 
 double gin and tonic from the bar (and you can buy more too). A world of s
 cientific discovery awaits! \n\n Over 18s only\; under 25s will need ID on
  the door. Sorry\, no refunds. \n
LAST-MODIFIED:20251203T092022
LOCATION:Love's Farm House
ORGANIZER:mailto:bookings@lovesfarmhouse.co.uk
SUMMARY:Gin Lab 3
URL;VALUE=URI:https://ti.to/loves-farm-house/gin-lab-3
URL;VALUE=URI:https://ti.to/loves-farm-house/gin-lab-3
END:VEVENT
END:VCALENDAR
