BEGIN:VCALENDAR
VERSION:2.0
PRODID:icalendar-ruby
CALSCALE:GREGORIAN
BEGIN:VTIMEZONE
TZID:Europe/London
BEGIN:DAYLIGHT
DTSTART:20250330T020000
TZOFFSETFROM:+0000
TZOFFSETTO:+0100
RRULE:FREQ=YEARLY;BYDAY=-1SU;BYMONTH=3
TZNAME:BST
END:DAYLIGHT
BEGIN:STANDARD
DTSTART:20241027T010000
TZOFFSETFROM:+0100
TZOFFSETTO:+0000
RRULE:FREQ=YEARLY;BYDAY=-1SU;BYMONTH=10
TZNAME:GMT
END:STANDARD
END:VTIMEZONE
BEGIN:VEVENT
DTSTAMP:20260423T080941Z
UID:vkZEhw
DTSTART;TZID=Europe/London:20241129T200000
DTEND;TZID=Europe/London:20241129T223000
CLASS:PUBLIC
CREATED:20241022T214046
DESCRIPTION: Wreath making workshop with Jo from Silver Rock Designs. \n\n 
 At this workshop everyone is encouraged to let their creativity flow and c
 hoose materials and design that resonates with them. There will be an asso
 rtment of natural and reusable items from foliage and pinecones to baubles
 \, snowflakes and ribbons.\nBy the end of the workshop\, each participant 
 leaves with a unique wreath\, a reflection of their personality and creati
 vity\, ready to adorn their home for Christmas and years to come. \n
LAST-MODIFIED:20251203T092022
LOCATION:Love's Farm House
ORGANIZER:mailto:bookings@lovesfarmhouse.co.uk
SUMMARY:Wreath Workshop by Silver Rock Designs
URL;VALUE=URI:https://ti.to/loves-farm-house/christmaswreath2024
URL;VALUE=URI:https://ti.to/loves-farm-house/christmaswreath2024
END:VEVENT
END:VCALENDAR
