BEGIN:VCALENDAR
VERSION:2.0
PRODID:icalendar-ruby
CALSCALE:GREGORIAN
BEGIN:VEVENT
DTSTAMP:20260423T093613Z
UID:Q9gbcQ
DTSTART;VALUE=DATE:20190417
DTEND;VALUE=DATE:20190418
CLASS:PUBLIC
CREATED:20190321T102613
DESCRIPTION: Join us at Love's Farm House on Wednesday 17th April for a day
  of balloon modelling and magic from Bubbly Circus.  Mr Bubbles can litera
 lly make anything out of balloons! Watch in amazement as he creates someth
 ing special for you and your friends. Then sit back and enjoy a magic show
  to remember. With lots of audience participation Mr Bubbles will surprise
  and baffle you at the same time with his colourful\, visual magic\, sure 
 to enthral children of all ages.  \n\n Ages 3+ (under 3s are welcome to ac
 company their older siblings but may not be able to participate in some el
 ements of the show. Siblings under 3 do not need a ticket). \n\n Shows are
  at 11am and 1.30pm and tickets cost £5 per child. All children must be a
 ccompanied by a parent or carer. Parents and siblings under 3 or over 12 d
 on't need a ticket.  Sorry\, no refunds. \n
LAST-MODIFIED:20251203T092022
LOCATION:Love's Farm House
ORGANIZER:mailto:bookings@lovesfarmhouse.co.uk
SUMMARY:Bubbly Circus Magic & Balloon Modelling
URL;VALUE=URI:https://ti.to/loves-farm-house/bubbly-circus-magic-balloon-mo
 delling
URL;VALUE=URI:https://ti.to/loves-farm-house/bubbly-circus-magic-balloon-mo
 delling
END:VEVENT
END:VCALENDAR
