BEGIN:VCALENDAR
VERSION:2.0
PRODID:icalendar-ruby
CALSCALE:GREGORIAN
BEGIN:VEVENT
DTSTAMP:20260423T095810Z
UID:o1uWvA
DTSTART;VALUE=DATE:20181116
DTEND;VALUE=DATE:20181117
CLASS:PUBLIC
CREATED:20180914T121644
DESCRIPTION: British Craft Ale &amp\; Cheese Tasting Evening - \nFriday 16 
 November\, 8pm - midnight at Love’s Farm House \n\n After the great succ
 ess of our Belgian beer evening in June\, Love’s Farm House is teaming u
 p once again with Shumë\, the new bottle emporium in Cross Keys Mews\, St
  Neots\, for an evening of the best of British beer and cheeses.  \n\n The
  new wave of British ales is exploding with character\, from the big hoppy
  flavours of Citra and Mosaic hops to IPAs made with lactose and vanilla p
 ods. We’ll be pairing them \nwith some extraordinary cheeses that might 
 just melt your heart… or make your ears fizz with pleasure. \n\n Tickets
  cost £15 for a tasting menu of five beers and five cheeses for you to sa
 mple.\nShumë stocks over 30 British craft beers\, and the full range will
  be available to try at the Farm House Bar on Friday 16 November from 8pm.
   \n\n No under 18s. 18-25-year-olds will require photo ID. \n
LAST-MODIFIED:20251203T092022
LOCATION:Love's Farm House\, 17 Kester Way\, St Neots PE19 6GN
ORGANIZER:mailto:bookings@lovesfarmhouse.co.uk
SUMMARY:British Craft Ale & Cheese Tasting Evening
URL;VALUE=URI:https://ti.to/loves-farm-house/british-craft-ale-cheese-tasti
 ng-night
URL;VALUE=URI:https://ti.to/loves-farm-house/british-craft-ale-cheese-tasti
 ng-night
END:VEVENT
END:VCALENDAR
