BEGIN:VCALENDAR
VERSION:2.0
PRODID:icalendar-ruby
CALSCALE:GREGORIAN
BEGIN:VTIMEZONE
TZID:Europe/London
BEGIN:DAYLIGHT
DTSTART:20260329T020000
TZOFFSETFROM:+0000
TZOFFSETTO:+0100
RRULE:FREQ=YEARLY;BYDAY=-1SU;BYMONTH=3
TZNAME:BST
END:DAYLIGHT
BEGIN:STANDARD
DTSTART:20251026T010000
TZOFFSETFROM:+0100
TZOFFSETTO:+0000
RRULE:FREQ=YEARLY;BYDAY=-1SU;BYMONTH=10
TZNAME:GMT
END:STANDARD
END:VTIMEZONE
BEGIN:VEVENT
DTSTAMP:20260423T093836Z
UID:zNBhCw
DTSTART;TZID=Europe/London:20251205T194500
DTEND;TZID=Europe/London:20251205T224500
CLASS:PUBLIC
CREATED:20251006T131515
DESCRIPTION: Join us BACKSTAGE for a Wicked night of Musical Theatre! We ar
 e thrilled to be joined by JOSEPH CLAUS\, our West End star whose credits 
 include "Phantom of the Opera". \n\n   \n\n Fantastic live performances an
 d our famous sing-along grand finale. Musical-inspired dress code is stron
 gly encouraged but not essential\, and there will be a prize for the best 
 look. \n\n   \n\n Lia\, Caroline and Lynne can't wait to lead you through 
 this unforgettable experience ...Don't miss it! \n\n  \nA full selection o
 f drinks (including non-alcoholic and soft drinks) will be available for p
 urchase from the Love's Farm House Bar. \n\n Tickets are £15 per person\,
  group discounts available. \n\n Guests must be 14+ years old. Under 18s m
 ust be accompanied by a responsible adult (with their own ticket). Sorry n
 o refunds. \n
LAST-MODIFIED:20251203T092022
LOCATION:Love's Farm House
ORGANIZER:mailto:bookings@lovesfarmhouse.co.uk
SUMMARY:Backstage with DSM
URL;VALUE=URI:https://ti.to/loves-farm-house/backstage-dec2025
URL;VALUE=URI:https://ti.to/loves-farm-house/backstage-dec2025
END:VEVENT
END:VCALENDAR
