BEGIN:VCALENDAR
VERSION:2.0
PRODID:icalendar-ruby
CALSCALE:GREGORIAN
BEGIN:VTIMEZONE
TZID:Europe/London
BEGIN:DAYLIGHT
DTSTART:20230326T020000
TZOFFSETFROM:+0000
TZOFFSETTO:+0100
RRULE:FREQ=YEARLY;BYDAY=-1SU;BYMONTH=3
TZNAME:BST
END:DAYLIGHT
BEGIN:STANDARD
DTSTART:20231029T010000
TZOFFSETFROM:+0100
TZOFFSETTO:+0000
RRULE:FREQ=YEARLY;BYDAY=-1SU;BYMONTH=10
TZNAME:GMT
END:STANDARD
END:VTIMEZONE
BEGIN:VEVENT
DTSTAMP:20260423T081042Z
UID:qruQqA
DTSTART;VALUE=DATE:20230902
DTEND;VALUE=DATE:20230903
CLASS:PUBLIC
CREATED:20230620T134917
DESCRIPTION: What better way to celebrate a new school year than with a Bac
 k to School Disco on Saturday 2nd September from 5pm-9pm. No uniforms requ
 ired! \n\n We'll entertain the kids with games and crafts\, so parents can
  recover from being run off their feet all summer with a well-deserved dri
 nk at the bar. There will be cheesy hits for all ages\, so get practising 
 your best Dad dancing! If you're peckish\, Little Dutch Bites will be sell
 ing their poffertjes (mini Dutch pancakes) and we'll have extra treats and
  snacks on sale too. \n\n Tickets cost £3 per person (babies under 1 are 
 free). All children must be accompanied by a parent or carer\, who must ha
 ve their own ticket. Sorry\, no refunds. \n
LAST-MODIFIED:20251203T092022
LOCATION:Love's Farm House
ORGANIZER:mailto:bookings@lovesfarmhouse.co.uk
SUMMARY:Back to School Disco 2023
URL;VALUE=URI:https://ti.to/loves-farm-house/back-to-school-disco-2023
URL;VALUE=URI:https://ti.to/loves-farm-house/back-to-school-disco-2023
END:VEVENT
END:VCALENDAR
