BEGIN:VCALENDAR
VERSION:2.0
PRODID:icalendar-ruby
CALSCALE:GREGORIAN
BEGIN:VTIMEZONE
TZID:Europe/Amsterdam
BEGIN:DAYLIGHT
DTSTART:20240331T030000
TZOFFSETFROM:+0100
TZOFFSETTO:+0200
RRULE:FREQ=YEARLY;BYDAY=-1SU;BYMONTH=3
TZNAME:CEST
END:DAYLIGHT
BEGIN:STANDARD
DTSTART:20231029T020000
TZOFFSETFROM:+0200
TZOFFSETTO:+0100
RRULE:FREQ=YEARLY;BYDAY=-1SU;BYMONTH=10
TZNAME:CET
END:STANDARD
END:VTIMEZONE
BEGIN:VEVENT
DTSTAMP:20260420T072424Z
UID:8HBITQ
DTSTART;VALUE=DATE:20240205
DTEND;VALUE=DATE:20240207
CLASS:PUBLIC
CREATED:20230919T103610
DESCRIPTION: Laracon EU is a 2-day event for people who are interested in l
 earning Laravel and related technologies\, or who want to share their know
 ledge with others. \n\n \n Website: https://laracon.eu \n Need a VISA invi
 tation? Request letter \n \n
LAST-MODIFIED:20240820T121851
LOCATION:Amsterdam\, the Netherlands
ORGANIZER:mailto:noreply-calendar@tito.io
SUMMARY:Laracon EU 2024
URL;VALUE=URI:https://ti.to/love-laravel/laracon-eu-2024
URL;VALUE=URI:https://ti.to/love-laravel/laracon-eu-2024
END:VEVENT
END:VCALENDAR
