BEGIN:VCALENDAR
VERSION:2.0
PRODID:icalendar-ruby
CALSCALE:GREGORIAN
BEGIN:VEVENT
DTSTAMP:20260424T213943Z
UID:X7meyw
DTSTART;VALUE=DATE:20170128
DTEND;VALUE=DATE:20170129
CLASS:PUBLIC
CREATED:20170106T135405
DESCRIPTION: The 28th of January is International Privacy Day \n\n (or in t
 he EU - 'Data Protection Day')  \n\n All times GMT/UTC \n\n \n 14:00 Doors
  Open \n 14:30-16:00 UTC\, Live Stream from our kind hosts\, Mozilla Londo
 n \n \n\n Our very special guests.. \n\n Lukasz Olejnik and Gosia Rybakows
 ka - 'Privacy for the Modern Web' \n\n Eva Blum-Dumontet 'Women &amp\; Min
 orities in the Age of Data Exploitation' \n\n Vasilios Mavroudis - 'Talkin
 g Behind Your Back - On the Privacy of the Ultrasound Ecosystem' \n\n \n\n
  Eva Blum-Dumontet is a Research Officer at Privacy International. She inv
 estigates government surveillance in countries across Africa\, South Ameri
 ca and South-East Asia and collaborates with international partners on pro
 moting a better awareness of surveillance programmes and advocating for be
 tter protection of right to privacy. She also conducts research on the imp
 act of data exploitation. Prior to joining Privacy International she worke
 d as a journalist for the Franco-German TV channel Arte\, where she was co
 vering European affairs. She holds a MA in International Journalism from C
 ity University (London) and a BA in liberal arts from Sarah Lawrence Colle
 ge (New York). \n\n Lukasz Olejnik is a security and privacy consultant\, 
 and a researcher at University College London. His interests include infor
 mation\, computer security and privacy\, especially web\, mobile and Inter
 net of Things and Web of Things security and privacy. Lukasz is also a Wor
 ld Wide Web Consortium’s (W3C) Invited Expert\, where he works on privac
 y aspects of web standards. You can find Lukasz on Twitter: @lukOlejnik \n
 \n Gosia Rybakowska\, CEO Privacy and Security Analysis Centre. Data analy
 st and engineer\, programmer. Gosia holds strong interest in data protecti
 on\, online privacy and digital rights. She has been working on using algo
 rithmic mechanisms in development of tools for measuring sentiment and e-r
 eputation. She has been also a journalist covering geopolitics and digital
  transformation. You can find Gosia on Twitter:  @apsalaar \n\n Vasilios M
 avroudis is a doctoral researcher in the Information Security Group at Uni
 versity College\nLondon. His work focuses mainly on privacy and security a
 spects of different digital ecosystems. His recent work includes an in-dep
 th analysis of the ultrasound tracking ecosystem\, as well as the developm
 ent of a secure hardware platform from untrusted components. In the past\,
  he has worked on security projects such as detection systems for evasive 
 web-malware\, and attacks against telecommunication network. Vasilios is o
 n Twitter too @mavroudisv \n\n \n\n We will LIVE STREAM online (approx 14:
 30-16:00 GMT/UTC\, 28 Jan 2017) and we'll also be hosting a space limited 
 number of attendees at the venue in London. \n\n Here's the link you'll ne
 ed to watch the live stream. This link will also house the archive soon af
 ter the event https://air.mozilla.org/london-privacy-lab-international-pri
 vacy-day-2017-01-28/ \n\n \n\n Ask your questions during the stream \n\n \
 n Twitter - hashtag #PrivacyLab  \n IRC - irc.mozilla.org #london-privacy-
 lab \n \n
LAST-MODIFIED:20170128T095454
LOCATION:London\, United Kingdom
ORGANIZER:mailto:davross@protonmail.com
SUMMARY:London Privacy Lab
URL;VALUE=URI:https://ti.to/london-privacy-lab/28-january-international-dat
 a-privacy-day
URL;VALUE=URI:https://ti.to/london-privacy-lab/28-january-international-dat
 a-privacy-day
END:VEVENT
END:VCALENDAR
